BEGIN:VCALENDAR
VERSION:2.0
PRODID:-//Centro Universitário de Mineiros - UNIFIMES - ECPv6.15.19//NONSGML v1.0//EN
CALSCALE:GREGORIAN
METHOD:PUBLISH
X-WR-CALNAME:Centro Universitário de Mineiros - UNIFIMES
X-ORIGINAL-URL:https://unifimes.edu.br
X-WR-CALDESC:Eventos para Centro Universitário de Mineiros - UNIFIMES
REFRESH-INTERVAL;VALUE=DURATION:PT1H
X-Robots-Tag:noindex
X-PUBLISHED-TTL:PT1H
BEGIN:VTIMEZONE
TZID:America/Sao_Paulo
BEGIN:STANDARD
TZOFFSETFROM:-0300
TZOFFSETTO:-0300
TZNAME:-03
DTSTART:20220101T000000
END:STANDARD
END:VTIMEZONE
BEGIN:VEVENT
DTSTART;VALUE=DATE:20230413
DTEND;VALUE=DATE:20230503
DTSTAMP:20260420T222807
CREATED:20230405T232344Z
LAST-MODIFIED:20230427T180705Z
UID:58990-1681344000-1683071999@unifimes.edu.br
SUMMARY:Formação continuada UNIFIMES 2023/1
DESCRIPTION:Público Alvo\nDocentes da UNIFIMES dos Câmpus de Mineiros e Trindade. \nProgramação\n\nProgramação Completa\n\nInscrições\nClique aqui para efetuar sua inscrição
URL:https://unifimes.edu.br/eventos_unifimes/formacao-continuada-unifimes-2023-1/
CATEGORIES:Eventos - Campus Trindade,Semana de planejamento
END:VEVENT
BEGIN:VEVENT
DTSTART;TZID=America/Sao_Paulo:20230512T140000
DTEND;TZID=America/Sao_Paulo:20230512T160000
DTSTAMP:20260420T222807
CREATED:20230505T195439Z
LAST-MODIFIED:20230505T195439Z
UID:61314-1683900000-1683907200@unifimes.edu.br
SUMMARY:Vamos falar de saúde mental
DESCRIPTION:
URL:https://unifimes.edu.br/eventos_unifimes/vamos-falar-de-saude-mental/
CATEGORIES:Eventos - Campus Trindade
ATTACH;FMTTYPE=image/png:https://unifimes.edu.br/wp-content/uploads/2023/05/3265986333.png
END:VEVENT
END:VCALENDAR