BEGIN:VCALENDAR
VERSION:2.0
PRODID:-//Centro Universitário de Mineiros - UNIFIMES - ECPv6.15.19//NONSGML v1.0//EN
CALSCALE:GREGORIAN
METHOD:PUBLISH
X-WR-CALNAME:Centro Universitário de Mineiros - UNIFIMES
X-ORIGINAL-URL:https://unifimes.edu.br
X-WR-CALDESC:Eventos para Centro Universitário de Mineiros - UNIFIMES
REFRESH-INTERVAL;VALUE=DURATION:PT1H
X-Robots-Tag:noindex
X-PUBLISHED-TTL:PT1H
BEGIN:VTIMEZONE
TZID:America/Sao_Paulo
BEGIN:STANDARD
TZOFFSETFROM:-0300
TZOFFSETTO:-0300
TZNAME:-03
DTSTART:20240101T000000
END:STANDARD
END:VTIMEZONE
BEGIN:VEVENT
DTSTART;TZID=America/Sao_Paulo:20251110T190000
DTEND;TZID=America/Sao_Paulo:20251112T223000
DTSTAMP:20260420T005343
CREATED:20251103T172126Z
LAST-MODIFIED:20251103T174623Z
UID:171215-1762801200-1762986600@unifimes.edu.br
SUMMARY:XI Semana Jurídica da Unifimes
DESCRIPTION:XI Semana Jurídica da Unifimes\nData: 10\, 11 e 12 de novembro de 2025\nHorário: 19:00 às 22:30\nLocal: Via Youtube Unifimes oficial e Presencial no Auditório da Unifimes\nVagas: Ilimitadas via SIPEC\nInscrições: 04/11 à 10/11/2025 até as 18: 00 pelo endereço sipec.unifimes.edu.br\nValor: online – Gratuita\nPresencial será realizada pela Coordenação do curso – valor de 2 quilos de ração para gato ou cachorro por dia.\n\n\n\n\n\n\nDia 10 de novembro:\nTema: O júri e as carreiras jurídicas\n\n\n\n \n\n\n\nDr. Renner Carvalho Pedroso \n\nPromotor de Justiça do Ministério Público do Estado de Goiás\nMembro da Escola de Altos Estudos em Ciências Criminais\n⁠Membro da Escola Brasileira do Promotor do Júri.\n\n\nDr. Diego Henrique Siqueira Ferreira\n\nPromotor de Justiça do Ministério Publico do estado de Goiás.\nEx-Promotor de Justiça do Ministério Público do estado de Santa Catarina\nEx-Delegado de Polícia da PCDF\nEx-Agente de Polícia da PCDF\nEx-Agente de Polícia Penal do DF\nEx-Professor do G7 Jurídico e da Escola do MPSC\nPossui graduação em Direito pelo Universidade Estácio. Especialização em Investigação Policial pela Universidade Católica de Brasília.\n\n\n\n\n\n\nDia 11 de Novembro:\nTema 1: Violência doméstica\n\n\n\n\n\nDra. Sabrina Rampazzo de Oliveira\n\nJuíza de Direito há 18 anos\, titular do Juizado de Violência Doméstica e Familiar contra a Mulher de Jataí desde 2018\, pos graduada em Direito Processual Civil pela Esmeg\, representante da região centro-oeste do Fonavid no biênio 2019-2020\, coordenadora do 6º Cejusc (Centro Judiciário de Solução de Conflitos)\, Dretora do Foro da comarca de Jataí\, membro da Coordenadoria da Mulher em Situação de Violência do Poder Judiciário do Estado de Goiás\, Diretora Executiva dos Grupos Reflexivos no âmbito do Poder Judiciário de Goiás.\n\n\n\n\n\n\n2º Tema: Roda de conversa com a Temática: APERFEIÇOAMENTO DA REDE DE PROTEÇÃO: Caminhos de superação com a rede de apoio a vítima de violência – Palestrante: advogados\, juíz\, promotor\, delegado\, psicólogos\, dentre outros.\n\n\n\n\n\n\nDia 12 de Novembro:\nTema: Inteligência Artificial aplicada ao Direito\, Golpes Virtuais e Inteligência Artificial\n\n\n\n\n\n\n\nAdvogado. Especialista em Direito Civil e Processo Civil pela Atame. Especialista em Direito Penal e Processo Penal pela UFG. Especialista em Direito Cibernético pelo IPOG. Vice-Presidente da Comissão de Direito Digital e Informática da OAB/GO (2022-2024). Professor na Escola Superior da Advocacia – ESA/GO
URL:https://unifimes.edu.br/eventos_unifimes/xi-semana-juridica-da-unifimes/
ATTACH;FMTTYPE=image/jpeg:https://unifimes.edu.br/wp-content/uploads/2025/11/semana-direito.jpg
END:VEVENT
END:VCALENDAR