BEGIN:VCALENDAR
VERSION:2.0
PRODID:-//Centro Universitário de Mineiros - UNIFIMES - ECPv6.15.19//NONSGML v1.0//EN
CALSCALE:GREGORIAN
METHOD:PUBLISH
X-ORIGINAL-URL:https://unifimes.edu.br
X-WR-CALDESC:Eventos para Centro Universitário de Mineiros - UNIFIMES
REFRESH-INTERVAL;VALUE=DURATION:PT1H
X-Robots-Tag:noindex
X-PUBLISHED-TTL:PT1H
BEGIN:VTIMEZONE
TZID:America/Sao_Paulo
BEGIN:STANDARD
TZOFFSETFROM:-0300
TZOFFSETTO:-0300
TZNAME:-03
DTSTART:20240101T000000
END:STANDARD
END:VTIMEZONE
BEGIN:VEVENT
DTSTART;TZID=America/Sao_Paulo:20250909T190000
DTEND;TZID=America/Sao_Paulo:20250911T223000
DTSTAMP:20260420T044348
CREATED:20250806T133456Z
LAST-MODIFIED:20250807T112039Z
UID:145377-1757444400-1757629800@unifimes.edu.br
SUMMARY:I SIMPÓSIO DA PÓS-GRADUAÇÃO "O USO DE IA NO MERCADO DE TRABALHO"
DESCRIPTION:Programação: \n09 de setembro de 2025 \n19:00 – Mesa redonda – IA: O Futuro do Conhecimento e a Transformação do Mercado de Trabalho \nPalestrantes: \n· Prof. Ms. Edigar Antônio Diniz Júnior (Sistema Educacional Integrado – SEI) \n· Prof. Ms. Claudinei de Sousa Fernandes (UNIFIMES) \n· Prof. Dr. Wellington Francisco Rodrigues (UNIFIMES/UFMG) \n10 de setembro de 2025 \n19:00 – Oráculos em Inteligência Artificial: O uso de classificadores no Aprendizado de Máquina \n· Palestrante: Prof Dr. Marcos Augusto dos Santos (UFMG) \n11 de setembro de 2025 \n19:00 – Palestras \nPalestrantes: \n· Prof Dr. Aristóteles Góes Neto (UFMG) \nDesmistificando a Inteligência Artificial \n· Prof. Ms. Martinho de Souza Leite (UFMG) \nEvolução tecnológica e o seu potencial na ciência \nLink para inscrição: SIPEC – Sistema p/ Inscrições\, Pesquisa\, Extensão e Certificados \nO evento será transmitido pelo YouTube no canal oficial da Unifimes: https://www.youtube.com/@Unifimesoficial
URL:https://unifimes.edu.br/eventos_unifimes/i-simposio-da-pos-graduacao-o-uso-de-ia-no-mercado-de-trabalho/
LOCATION:Evento online
ATTACH;FMTTYPE=image/jpeg:https://unifimes.edu.br/wp-content/uploads/2025/08/WhatsApp-Image-2025-08-05-at-10.20.17.jpeg
END:VEVENT
END:VCALENDAR